BEGIN:VCALENDAR
VERSION:2.0
PRODID:icalendar-ruby
CALSCALE:GREGORIAN
METHOD:PUBLISH
BEGIN:VEVENT
DTSTAMP:20260421T041827Z
UID:26-2128053@trinitydurham.org
DTSTART:20220410T143000Z
DTEND:20220410T153000Z
CLASS:PUBLIC
CREATED:20260420T195329
DESCRIPTION:Please join us at 11:00 am\, and bring a friend as we worship t
 ogether\, singing hymns of praise and hearing the goodness of the Word. We
  can't wait to welcome you!
LAST-MODIFIED:20260420T195329
LOCATION:Trinity United Methodist Church
SUMMARY:Weekly In Person Services
URL;VALUE=URI:https://www.trinitydurham.org/events/weekly-in-person-service
 s/2022-04-10
ATTACH;FILENAME=Join us weekly (1).jpg;FMTTYPE=image/jpeg:https://dq5pwpg1q
 8ru0.cloudfront.net/2021/08/17/09/06/12/120b296d-cb8d-4b35-871b-4cbc833316
 0e/Join%20us%20weekly%20(1).jpg
END:VEVENT
END:VCALENDAR
