BEGIN:VCALENDAR
VERSION:2.0
PRODID:icalendar-ruby
CALSCALE:GREGORIAN
METHOD:PUBLISH
BEGIN:VEVENT
DTSTAMP:20260422T004356Z
UID:26-2136123@trinitydurham.org
DTSTART:20261004T150000Z
DTEND:20261004T160000Z
CLASS:PUBLIC
CREATED:20260421T200649
DESCRIPTION:Please join us at 11:00 am\, and bring a friend as we worship t
 ogether\, singing hymns of praise and hearing the goodness of the Word. We
  can't wait to welcome you!
LAST-MODIFIED:20260421T200649
LOCATION:Trinity United Methodist Church
SUMMARY:Weekly In Person Services
URL;VALUE=URI:https://www.trinitydurham.org/events/weekly-in-person-service
 s/2026-10-04
ATTACH;FILENAME=Join us weekly (1).jpg;FMTTYPE=image/jpeg:https://dq5pwpg1q
 8ru0.cloudfront.net/2021/08/17/09/06/12/120b296d-cb8d-4b35-871b-4cbc833316
 0e/Join%20us%20weekly%20(1).jpg
END:VEVENT
END:VCALENDAR
